{"text_format":"2","workbook":"xlsx","n_sheets":3,"sheets":["Input","Bestilling","Data Sheet"],"not_rendered":{"charts":0,"images":2,"macros":0,"external_links":0,"defined_names":1,"comments":0,"pivot_tables":0},"unopened":[],"bounds":{"document_bytes":16777216,"sheet_cells":100000,"run_cost":"one","rows_first":2000,"rows_last":500,"rows_between":2000,"halvings":0,"cell_chars":16384,"cell_head_chars":4096},"cells_cut":0,"cells_raw":0,"read":"whole","date_system":"1900"}

{"sheet":"Input","index":0,"n_rows":32,"n_cols":29,"rows_kept":32,"cut":false,"hidden":false,"merged":[[27,23,27,24],[27,25,27,26],[28,23,28,24],[28,25,28,26],[29,23,29,24],[29,25,29,26],[24,23,24,24],[24,25,24,26],[25,23,25,24],[25,25,25,26],[26,23,26,24],[26,25,26,26],[7,22,7,23],[7,24,7,25],[8,22,8,23],[8,24,8,25],[15,22,15,23],[15,24,15,25],[9,13,9,19],[14,22,14,23],[14,24,14,25],[22,22,22,23],[22,24,22,25],[16,13,16,19],[21,22,21,23],[21,24,21,25]]}
[]
[{"$nulls":13},"Spiller","Målmand","30-34","34-38","Hjemme","Ude","Rabat",0.2,null,"Small","Medium","Large","X-Large","2X-Large"]
[null,"Type","Nummer","Hjemme / Ude","Trøje","Shorts","Sokker","Nummer Shorts","Sponsor Mave","Sponsor over nummer Ryg","Navn over nummer ryg"]
[null,"Målmand",1,"Ude",null,null,null,"nej",{"$nulls":5},"TRØJE, HJEMME",{"$nulls":5},"Vejledende udsaglspris","Pris",null,"S","M","L","XL","2XL"]
[null,"Spiller",2,"Hjemme",null,null,null,"Nej",{"$nulls":5},"894102-412/Stribed Division III, University Blue/White",{"$nulls":5},230,{"$f":"IF(Bestilling!$D$41=\"Ja\",Input!T5,Input!T5*(1-$U$2))","v":184},null,{"$f":"COUNTIFS($B$4:$B$21,$N$2,$E$4:$E$21,$W$2,$D$4:$D$21,$R$2)","v":0},{"$f":"COUNTIFS($B$4:$B$21,$N$2,$E$4:$E$21,$X$2,$D$4:$D$21,$R$2)","v":0},{"$f":"COUNTIFS($B$4:$B$21,$N$2,$E$4:$E$21,$Y$2,$D$4:$D$21,$R$2)","v":0},{"$f":"COUNTIFS($B$4:$B$21,$N$2,$E$4:$E$21,$Z$2,$D$4:$D$21,$R$2)","v":0},{"$f":"COUNTIFS($B$4:$B$21,$N$2,$E$4:$E$21,$AA$2,$D$4:$D$21,$R$2)","v":0},null,{"$f":"U5*SUM(W5:AA5)","v":0}]
[null,"Spiller",3,"Hjemme",null,null,null,"Nej",{"$nulls":5},"SHORTS, HJEMME",{"$nulls":8},"S","M","L","XL","2XL"]
[null,"Spiller",4,"Hjemme",null,null,null,"Nej",{"$nulls":5},"725986-412/Park II Knit Short, University Blue",{"$nulls":5},140,{"$f":"IF(Bestilling!$D$41=\"Ja\",Input!T7,Input!T7*(1-$U$2))","v":112},null,{"$f":"COUNTIFS($B$4:$B$21,$N$2,$F$4:$F$21,$W$2,$D$4:$D$21,$R$2)","v":0},{"$f":"COUNTIFS($B$4:$B$21,$N$2,$F$4:$F$21,$X$2,$D$4:$D$21,$R$2)","v":0},{"$f":"COUNTIFS($B$4:$B$21,$N$2,$F$4:$F$21,$Y$2,$D$4:$D$21,$R$2)","v":0},{"$f":"COUNTIFS($B$4:$B$21,$N$2,$F$4:$F$21,$Z$2,$D$4:$D$21,$R$2)","v":0},{"$f":"COUNTIFS($B$4:$B$21,$N$2,$F$4:$F$21,$AA$2,$D$4:$D$21,$R$2)","v":0},null,{"$f":"U7*SUM(W7:AA7)","v":0}]
[null,"Spiller",5,"Hjemme",null,null,null,"Nej",{"$nulls":5},"STRØMPER, HJEMME",{"$nulls":8},"30-34",null,"34-38"]
[null,"Spiller",6,"Hjemme",null,null,null,"Nej",{"$nulls":5},"SX5728-412/Classic II Sock, University Blue",{"$nulls":5},80,{"$f":"IF(Bestilling!$D$41=\"Ja\",Input!T9,Input!T9*(1-$U$2))","v":64},null,{"$f":"COUNTIFS($B$4:$B$21,$N$2,$G$4:$G$21,$P$2,$D$4:$D$21,$R$2)","v":0},null,{"$f":"COUNTIFS($B$4:$B$21,$N$2,$G$4:$G$21,$Q$2,$D$4:$D$21,$R$2)","v":0},null,null,null,{"$f":"U9*SUM(W9:AA9)","v":0}]
[null,"Spiller",7,"Hjemme",null,null,null,"Nej",{"$nulls":5},"MÅLMAND Hjemme"]
[null,"Spiller",8,"Hjemme",null,null,null,"Nej",{"$nulls":5},"TRØJE, HJEMME",{"$nulls":8},"S","M","L","XL","2XL"]
[null,"Spiller",9,"Hjemme",null,null,null,"Nej",{"$nulls":5},"898046-719/Gardien Jersey, Long Sleeve, Tour Yellow/University Gold",{"$nulls":5},480,{"$f":"IF(Bestilling!$D$41=\"Ja\",Input!T12,Input!T12*(1-$U$2))","v":384},null,{"$f":"COUNTIFS($B$4:$B$21,$O$2,$E$4:$E$21,$W$2,$D$4:$D$21,$R$2)","v":0},{"$f":"COUNTIFS($B$4:$B$21,$O$2,$E$4:$E$21,$X$2,$D$4:$D$21,$R$2)","v":0},{"$f":"COUNTIFS($B$4:$B$21,$O$2,$E$4:$E$21,$Y$2,$D$4:$D$21,$R$2)","v":0},{"$f":"COUNTIFS($B$4:$B$21,$O$2,$E$4:$E$21,$Z$2,$D$4:$D$21,$R$2)","v":0},{"$f":"COUNTIFS($B$4:$B$21,$O$2,$E$4:$E$21,$AA$2,$D$4:$D$21,$R$2)","v":0},null,{"$f":"U12*SUM(W12:AA12)","v":0}]
[null,"Spiller",10,"Hjemme",null,null,null,"Nej",{"$nulls":5},"SHORTS, HJEMME",{"$nulls":8},"S","M","L","XL","2XL"]
[null,"Spiller",11,"Hjemme",null,null,null,"Nej",{"$nulls":5},"725990-719/League Knit Shorts, Tour Yellow/University Gold",{"$nulls":5},160,{"$f":"IF(Bestilling!$D$41=\"Ja\",Input!T14,Input!T14*(1-$U$2))","v":128},null,{"$f":"COUNTIFS($B$4:$B$21,$O$2,$F$4:$F$21,$W$2,$D$4:$D$21,$R$2)","v":0},{"$f":"COUNTIFS($B$4:$B$21,$O$2,$F$4:$F$21,$X$2,$D$4:$D$21,$R$2)","v":0},{"$f":"COUNTIFS($B$4:$B$21,$O$2,$F$4:$F$21,$Y$2,$D$4:$D$21,$R$2)","v":0},{"$f":"COUNTIFS($B$4:$B$21,$O$2,$F$4:$F$21,$Z$2,$D$4:$D$21,$R$2)","v":0},{"$f":"COUNTIFS($B$4:$B$21,$O$2,$F$4:$F$21,$AA$2,$D$4:$D$21,$R$2)","v":0},null,{"$f":"U14*SUM(W14:AA14)","v":0}]
[null,"Spiller",12,"Hjemme",null,null,null,"Nej",{"$nulls":5},"STRØMPER, HJEMME",{"$nulls":8},"30-34",null,"34-38"]
[null,"Spiller",13,"Hjemme",null,null,null,"Nej",{"$nulls":5},"SX6836-719/Team Matchfit Core Sock, Tour Yellow/University Gold",{"$nulls":5},120,{"$f":"IF(Bestilling!$D$41=\"Ja\",Input!T16,Input!T16*(1-$U$2))","v":96},null,{"$f":"COUNTIFS($B$4:$B$21,$O$2,$G$4:$G$21,$P$2,$D$4:$D$21,$R$2)","v":0},null,{"$f":"COUNTIFS($B$4:$B$21,$O$2,$G$4:$G$21,$Q$2,$D$4:$D$21,$R$2)","v":0},null,null,null,{"$f":"U16*SUM(W16:AA16)","v":0}]
[null,"Spiller",14,"Hjemme",null,null,null,"Nej",{"$nulls":5},"MÅLMAND Ude"]
[null,"Spiller",15,"Hjemme",null,null,null,"Nej",{"$nulls":5},"TRØJE, HJEMME",{"$nulls":8},"S","M","L","XL","2XL"]
[null,"Spiller",16,"Hjemme",null,null,null,"Nej",{"$nulls":5},"898046-398/Gardien Jersey, Long Sleeve, Green Strike/Green Spark",{"$nulls":5},480,{"$f":"IF(Bestilling!$D$41=\"Ja\",Input!T19,Input!T19*(1-$U$2))","v":384},null,{"$f":"COUNTIFS($B$4:$B$21,$O$2,$E$4:$E$21,$W$2,$D$4:$D$21,$S$2)","v":0},{"$f":"COUNTIFS($B$4:$B$21,$O$2,$E$4:$E$21,$X$2,$D$4:$D$21,$S$2)","v":0},{"$f":"COUNTIFS($B$4:$B$21,$O$2,$E$4:$E$21,$Y$2,$D$4:$D$21,$S$2)","v":0},{"$f":"COUNTIFS($B$4:$B$21,$O$2,$E$4:$E$21,$Z$2,$D$4:$D$21,$S$2)","v":0},{"$f":"COUNTIFS($B$4:$B$21,$O$2,$E$4:$E$21,$AA$2,$D$4:$D$21,$S$2)","v":0},null,{"$f":"U19*SUM(W19:AA19)","v":0}]
[null,"Spiller",17,"Hjemme",null,null,null,"Nej",{"$nulls":5},"SHORTS, HJEMME",{"$nulls":8},"S","M","L","XL","2XL"]
[null,"Målmand",18,"Hjemme",null,null,null,"Nej",{"$nulls":5},"725990-398/League Knit Shorts, Green Strike/Green Spark",{"$nulls":5},160,{"$f":"IF(Bestilling!$D$41=\"Ja\",Input!T21,Input!T21*(1-$U$2))","v":128},null,{"$f":"COUNTIFS($B$4:$B$21,$O$2,$F$4:$F$21,$W$2,$D$4:$D$21,$S$2)","v":0},{"$f":"COUNTIFS($B$4:$B$21,$O$2,$F$4:$F$21,$X$2,$D$4:$D$21,$S$2)","v":0},{"$f":"COUNTIFS($B$4:$B$21,$O$2,$F$4:$F$21,$Y$2,$D$4:$D$21,$S$2)","v":0},{"$f":"COUNTIFS($B$4:$B$21,$O$2,$F$4:$F$21,$Z$2,$D$4:$D$21,$S$2)","v":0},{"$f":"COUNTIFS($B$4:$B$21,$O$2,$F$4:$F$21,$AA$2,$D$4:$D$21,$S$2)","v":0},null,{"$f":"U21*SUM(W21:AA21)","v":0}]
[{"$nulls":13},"STRØMPER, HJEMME",{"$nulls":8},"38-42",null,"42-46"]
[{"$nulls":13},"SX6836-398/Team Matchfit Core Sock, Green Strike/Green Spark",{"$nulls":5},120,{"$f":"IF(Bestilling!$D$41=\"Ja\",Input!T23,Input!T23*(1-$U$2))","v":96},null,{"$f":"COUNTIFS($B$4:$B$21,$O$2,$G$4:$G$21,$P$2,$D$4:$D$21,$S$2)","v":0},null,{"$f":"COUNTIFS($B$4:$B$21,$O$2,$G$4:$G$21,$Q$2,$D$4:$D$21,$S$2)","v":0},null,null,null,{"$f":"U23*SUM(W23:AA23)","v":0}]
[]
[{"$nulls":13},"Konvertering af logo fil til tryk fil",{"$nulls":5},300,{"$f":"T25","v":300},null,null,"Stk.",{"$nulls":4},{"$f":"Z25*U25","v":0}]
[{"$nulls":13},"KIF Logo 10x10",{"$nulls":5},25,{"$f":"T26","v":25},null,null,"Stk.",null,{"$f":"COUNTA(E4:E21)","v":0},null,null,0]
[{"$nulls":13},"Sponsor logo 30X30 (Ryg format) - 1 farve",{"$nulls":5},37.5,37.5,null,null,"Stk.",null,{"$f":"COUNTA(I4:J21)","v":0},null,null,0]
[{"$nulls":13},"Tal Short (Vandbaseret) - 10 cm - Modsat Nike logo",{"$nulls":5},25,25,null,null,"Stk.",null,{"$f":"COUNTIF(H4:H21,\"Ja\")","v":0},null,null,0]
[{"$nulls":13},"Tal (Vandbaseret) - 20 cm - Trøje Ryg",{"$nulls":5},31.25,31.25,null,null,"Stk.",null,{"$f":"COUNTA(E4:E21)","v":0},null,null,0]
[{"$nulls":13},"Navnetryk - 10 cm Ryg",{"$nulls":5},43.75,43.75,null,null,"Stk.",null,{"$f":"COUNTA(K4:K21)","v":0},null,null,0]
[]
[{"$nulls":19},"Samlet",null,":",{"$nulls":6},{"$f":"SUM(AC4:AC30)","v":0}]

{"sheet":"Bestilling","index":1,"n_rows":48,"n_cols":17,"rows_kept":48,"cut":false,"hidden":false,"merged":[[43,2,43,16],[44,2,44,16],[47,4,47,16],[36,11,36,12],[36,13,36,14],[37,11,37,12],[37,13,37,14],[45,4,45,8],[38,11,38,12],[38,13,38,14],[40,4,40,6],[41,4,41,6],[41,13,41,14],[24,10,24,11],[24,12,24,13],[25,2,25,8],[35,13,35,14],[35,11,35,12],[30,10,30,11],[30,12,30,13],[31,10,31,11],[31,12,31,13],[34,11,34,12],[34,13,34,14],[33,11,33,12],[33,13,33,14],[17,12,17,13],[17,10,17,11],[11,2,11,8],[23,10,23,11],[23,12,23,13],[49,1,49,17],[51,1,52,17],[46,4,46,16],[1,1,2,17],[5,1,5,3],[7,2,7,4],[8,2,8,4],[5,9,5,16],[3,2,3,16],[18,2,18,8],[5,6,5,7],[9,2,9,4],[7,5,7,8],[9,5,9,8],[16,10,16,11],[16,12,16,13]]}
[]
[null,"Bestillingsseddel"]
[]
[null,null,"Ungdom, KAMPTØJ"]
[null,null,"Lawaetz"]
[null,"fodbold",null,null,null,"Dato:","2018-12-13",null,"Rekv.nr   :"]
[]
[null,null,"Rekvirent:"]
[null,null,"Leverandør/Butik:",null,null,"Teamsport København"]
[null,null,"Hold:",null,null,"Karlslunde IF 2010"]
[null,null,"Style nr/Varebeskrivelse/Størrelse ",{"$nulls":5},"Pris",{"$nulls":7},"Sum"]
[null,null,"SPILLER hjemme"]
[null,null,"TRØJE, HJEMME",{"$nulls":7},"S","M","L","XL","2XL"]
[null,null,{"$f":"Input!N5","v":"894102-412/Stribed Division III, University Blue/White"},{"$nulls":5},{"$f":"Input!U5","v":184},null,{"$f":"Input!W5","v":0},{"$f":"Input!X5","v":0},{"$f":"Input!Y5","v":0},{"$f":"Input!Z5","v":0},{"$f":"Input!AA5","v":0},null,{"$f":"I14*SUM(K14:O14)","v":0}]
[null,null,"SHORTS, HJEMME",{"$nulls":7},"S","M","L","XL","2XL"]
[null,null,{"$f":"Input!N7","v":"725986-412/Park II Knit Short, University Blue"},{"$nulls":5},{"$f":"Input!U7","v":112},null,{"$f":"Input!W7","v":0},{"$f":"Input!X7","v":0},{"$f":"Input!Y7","v":0},{"$f":"Input!Z7","v":0},{"$f":"Input!AA7","v":0},null,{"$f":"I16*SUM(K16:O16)","v":0}]
[null,null,"STRØMPER, HJEMME",{"$nulls":7},"30-34",null,"34-38"]
[null,null,{"$f":"Input!N9","v":"SX5728-412/Classic II Sock, University Blue"},{"$nulls":5},{"$f":"Input!U9","v":64},null,{"$f":"Input!W9","v":0},null,{"$f":"Input!Y9","v":0},null,null,null,{"$f":"I18*SUM(K18:O18)","v":0}]
[null,null,"MÅLMAND Hjemme"]
[null,null,"TRØJE, HJEMME",{"$nulls":7},"S","M","L","XL","2XL"]
[null,null,{"$f":"Input!N12","v":"898046-719/Gardien Jersey, Long Sleeve, Tour Yellow/University Gold"},{"$nulls":5},{"$f":"Input!U12","v":384},null,{"$f":"Input!W12","v":0},{"$f":"Input!X12","v":0},{"$f":"Input!Y12","v":0},{"$f":"Input!Z12","v":0},{"$f":"Input!AA12","v":0},null,{"$f":"I21*SUM(K21:O21)","v":0}]
[null,null,"SHORTS, HJEMME",{"$nulls":7},"S","M","L","XL","2XL"]
[null,null,{"$f":"Input!N14","v":"725990-719/League Knit Shorts, Tour Yellow/University Gold"},{"$nulls":5},{"$f":"Input!U14","v":128},null,{"$f":"Input!W14","v":0},{"$f":"Input!X14","v":0},{"$f":"Input!Y14","v":0},{"$f":"Input!Z14","v":0},{"$f":"Input!AA14","v":0},null,{"$f":"I23*SUM(K23:O23)","v":0}]
[null,null,"STRØMPER, HJEMME",{"$nulls":7},"30-34",null,"34-38"]
[null,null,{"$f":"Input!N16","v":"SX6836-719/Team Matchfit Core Sock, Tour Yellow/University Gold"},{"$nulls":5},{"$f":"Input!U16","v":96},null,{"$f":"Input!W16","v":0},null,{"$f":"Input!Y16","v":0},null,null,null,{"$f":"I25*SUM(K25:O25)","v":0}]
[null,null,"MÅLMAND Ude"]
[null,null,"TRØJE, HJEMME",{"$nulls":7},"S","M","L","XL","2XL"]
[null,null,{"$f":"Input!N19","v":"898046-398/Gardien Jersey, Long Sleeve, Green Strike/Green Spark"},{"$nulls":5},{"$f":"Input!U19","v":384},null,{"$f":"Input!W19","v":0},{"$f":"Input!X19","v":0},{"$f":"Input!Y19","v":0},{"$f":"Input!Z19","v":0},{"$f":"Input!AA19","v":0},null,{"$f":"I28*SUM(K28:O28)","v":0}]
[null,null,"SHORTS, HJEMME",{"$nulls":7},"S","M","L","XL","2XL"]
[null,null,{"$f":"Input!N21","v":"725990-398/League Knit Shorts, Green Strike/Green Spark"},{"$nulls":5},{"$f":"Input!U21","v":128},null,{"$f":"Input!W21","v":0},{"$f":"Input!X21","v":0},{"$f":"Input!Y21","v":0},{"$f":"Input!Z21","v":0},{"$f":"Input!AA21","v":0},null,{"$f":"I30*SUM(K30:O30)","v":0}]
[null,null,"STRØMPER, HJEMME",{"$nulls":7},"30-34",null,"34-38"]
[null,null,{"$f":"Input!N23","v":"SX6836-398/Team Matchfit Core Sock, Green Strike/Green Spark"},{"$nulls":5},{"$f":"Input!U23","v":96},null,{"$f":"Input!W23","v":0},null,{"$f":"Input!Y23","v":0},null,null,null,{"$f":"I32*SUM(K32:O32)","v":0}]
[]
[null,null,"Konvertering af logo fil til tryk fil AI eller EPS",{"$nulls":5},{"$f":"Input!U25","v":300},null,null,"Stk.",{"$nulls":4},{"$f":"N34*I34","v":0}]
[null,null,"KIF Logo 10x10",{"$nulls":5},{"$f":"Input!U26","v":25},null,null,"Stk.",null,{"$f":"Input!Z26","v":0},null,null,{"$f":"N35*I35","v":0}]
[null,null,"Sponsor logo 30X30 (Ryg format) - 1 farve",{"$nulls":5},{"$f":"Input!U27","v":37.5},null,null,"Stk.",null,{"$f":"Input!Z27","v":0},null,null,0]
[null,null,"Tal Short (Vandbaseret) - 10 cm - Modsat Nike logo",{"$nulls":5},{"$f":"Input!U28","v":25},null,null,"Stk.",null,{"$f":"Input!Z28","v":0},null,null,0]
[null,null,"Tal (Vandbaseret) - 20 cm - Trøje Ryg",{"$nulls":5},{"$f":"Input!U29","v":31.25},null,null,"Stk.",null,{"$f":"Input!Z29","v":0},null,null,0]
[null,null,"Navnetryk - 10 cm Ryg",{"$nulls":5},{"$f":"Input!U30","v":43.75},null,null,"Stk.",null,{"$f":"Input!Z30","v":0},null,null,0]
[]
[null,null,"Aftale","Nej",{"$nulls":4},"Samlet",":",{"$nulls":6},{"$f":"SUM(Q4:Q39)","v":0}]
[]
[null,null,"KOMMENTAR TIL EVT. TRYK"]
[]
[]
[]
[null,null,"Levering:",null,"Kongens Enge 42, 2690 Karlslunde. Att: (Rekvirent)"]
[null,null,"Andet:"]

{"sheet":"Data Sheet","index":2,"n_rows":7,"n_cols":7,"rows_kept":7,"cut":false,"hidden":true,"merged":[]}
[]
[null,"Tøj størrelse","Ja / nej","Spiller type","Sokker","Type","Rabat"]
[null,"Small","Nej","Målmand","30-34","Hjemme","Ja"]
[null,"Medium","Ja","Spiller","34-38","Ude","Nej"]
[null,"Large"]
[null,"X-Large"]
[null,"2X-Large"]